BEGIN:VCALENDAR
VERSION:2.0
PRODID:-//eventon.com NONSGML v1.0//EN
CALSCALE:GREGORIAN
METHOD:PUBLISH
BEGIN:VEVENT
UID:69ea6ccd83c9d
DTSTAMP:20260423T190237Z
DTSTART:20190505T163000Z
DTEND:20190505T181500Z
LOCATION:
SUMMARY:Masha és a Medve
DESCRIPTION:Masha és barátai lázasan készülnek a Varázslók Világnap
 jára. Készülődés közben az ünnepi díszek és a sütemények titokza
 tos módon eltűnnek. Biztosan valami varázslat van a dologban! Masha\,  m
 int fődetektív kibogozza a titokzatos történetet és megfejti a szörny
 űséges varázslatot. A legfélelmetesebb varázsló is megváltozhat\,  h
 a jósággal és megértéssel szembesül. Ha valóban hiszünk[..]\nhttps:
 //momkult.hu/events/masha-es-a-medve-12/
URL:https://momkult.hu/events/masha-es-a-medve-12/
END:VEVENT
END:VCALENDAR