BEGIN:VCALENDAR
VERSION:2.0
PRODID:-//eventon.com NONSGML v1.0//EN
CALSCALE:GREGORIAN
METHOD:PUBLISH
BEGIN:VEVENT
UID:69ea7ffeaed8c
DTSTAMP:20260423T202430Z
DTSTART:20190417T170000Z
DTEND:20190417T183000Z
LOCATION:
SUMMARY:Alkalmi triptichon
DESCRIPTION:Hitel-estCzine\,  Korniss\,  VajdaAblonczy László Képíró 
 gnes Kolozsváry Marianna Léka Géza N. Pál József Mezei Emese\nhttps:/
 /momkult.hu/events/alkalmi-triptichon/
URL:https://momkult.hu/events/alkalmi-triptichon/
END:VEVENT
END:VCALENDAR