BEGIN:VCALENDAR
VERSION:2.0
PRODID:-//eventon.com NONSGML v1.0//EN
CALSCALE:GREGORIAN
METHOD:PUBLISH
BEGIN:VEVENT
UID:69ea595cebe72
DTSTAMP:20260423T173940Z
DTSTART:20190530T180000Z
DTEND:20190530T200000Z
LOCATION:
SUMMARY:„Milyen csodálatos a világ” | Budapest Ragtime Band  | Zsidó Művészeti Napok
DESCRIPTION:Louis Armstrong est a Papa Fleigh zenekarral. Louis Armstrong a
  huszadik század zenei életének egyik legjelentősebb újítója\,  a ja
 zz igazi királya\,  aki megjelenésével\,  hangjával és zenei tudásáv
 al máig nem talált méltó követőre. Jazz örökzöldek\,  filmzenék\,
   musical slágerek\,  pop slágerek kerülnek terítékre. Sztárvendég: 
 Ónodi Eszter Papa Fleigh ének\,  trombita A zenekar: [..]\nhttps://momku
 lt.hu/events/milyen-csodalatos-a-vilag-a-budapest-ragtime-band-koncertje-zs
 ido-muveszeti-napok/
URL:https://momkult.hu/events/milyen-csodalatos-a-vilag-a-budapest-ragtime-band-koncertje-zsido-muveszeti-napok/
END:VEVENT
END:VCALENDAR