BEGIN:VCALENDAR
VERSION:2.0
PRODID:-//eventon.com NONSGML v1.0//EN
CALSCALE:GREGORIAN
METHOD:PUBLISH
BEGIN:VEVENT
UID:69ea564890217
DTSTAMP:20260423T172632Z
DTSTART:20190525T150000Z
DTEND:20190525T200000Z
LOCATION:
SUMMARY:Mit akar a férfi?
DESCRIPTION:A Mit akar a férfi? programsorozat következő eseménye egy m
 inikonferencia három karizmatikus előadóval\,  a férfilét kapcsán. A 
 „Mit akar a férfi” konferencia célja\,  hogy tabu kérdésekről hall
 janak a résztvevők fontos\,  sokszor ki nem mondott dolgokat\,  hogy azut
 án átgondolhassák\,  saját életükben ez milyen elakadásokat okozhat\
 ,  de megértsék azt is\,  hogy mindannyian[..]\nhttps://momkult.hu/events
 /1840/
URL:https://momkult.hu/events/1840/
END:VEVENT
END:VCALENDAR