BEGIN:VCALENDAR
VERSION:2.0
PRODID:-//eventon.com NONSGML v1.0//EN
CALSCALE:GREGORIAN
METHOD:PUBLISH
BEGIN:VEVENT
UID:69ea57b3cd65e
DTSTAMP:20260423T173235Z
DTSTART:20190603T180000Z
DTEND:20190603T200000Z
LOCATION:
SUMMARY:Palya Bea\,  Grund Színház
DESCRIPTION:Az estet Vekerdy Tamás nyitja meg. A folytatásban fellép a G
 rund Színház\,  a színházi és alkalmazott improvizáció műfajának m
 eghonosítója. A társulat a való életből visszaköszönő pillanatokat
  mutat meg a színpadon\,  amelyek ismerősek lehetnek\,  ugyanakkor más m
 egvilágításba helyezik mindennapi problémákat a humor segítségével.
  Az est folytatásaként Palya Bea egyszálének című koncertjéét[..]\n
 https://momkult.hu/events/egy-nagyszeru-est-egy-jo-ugyert-jotekonysagi-konc
 ert/
URL:https://momkult.hu/events/egy-nagyszeru-est-egy-jo-ugyert-jotekonysagi-koncert/
END:VEVENT
END:VCALENDAR