BEGIN:VCALENDAR
VERSION:2.0
PRODID:-//eventon.com NONSGML v1.0//EN
CALSCALE:GREGORIAN
METHOD:PUBLISH
BEGIN:VEVENT
UID:69ea6b19eb767
DTSTAMP:20260423T185521Z
DTSTART:20190516T173000Z
DTEND:20190516T190000Z
LOCATION:
SUMMARY:Hello\,  WMN!
DESCRIPTION:TÃ©ma: TÃºlÃ©lni a mÃ©diÃ¡t &#8211; Avagy: a hÃ­rnÃ©v Ã¡ra Inno
 vÃ¡torok Ã©s kÃ¶vetÅ‘k\,  influenszerek Ã©s bÃ©kebeli sztÃ¡rok\,  kÃ¶zÃ¶ssÃ
 ©gek Ã©s rajongÃ³tÃ¡borok. Ki figyel kit? Kit kÃ¶vetnek a gyerekeink? Na Ã©
 sâ€¦ hovÃ¡? Hogyan vÃ¡ltozott â€“ Ã©s vÃ¡ltozik folyamatosan â€“ az ismert 
 emberek tÃ¡rsadalmi megÃ­tÃ©lÃ©se? Kinek valÃ³ a hÃ­rnÃ©v\,  Ã©s kinek nem?
  MiÃ©rt vÃ¡gynak[..]\nhttps://momkult.hu/events/hello-wmn-2/
URL:https://momkult.hu/events/hello-wmn-2/
END:VEVENT
END:VCALENDAR