BEGIN:VCALENDAR
VERSION:2.0
PRODID:-//eventon.com NONSGML v1.0//EN
CALSCALE:GREGORIAN
METHOD:PUBLISH
BEGIN:VEVENT
UID:69ea94bb2843c
DTSTAMP:20260423T215259Z
DTSTART:20190407T150000Z
DTEND:20190407T161000Z
LOCATION:
SUMMARY:POKET versfelolvasÃ¡s
DESCRIPTION:POKET versantolÃ³gia &#8211; A szarvassÃ¡ vÃ¡ltozott fiÃº A POK
 ET 1. szÃ¼letÃ©snapjÃ¡ra megjelenÅ‘ versantolÃ³giÃ¡bÃ³l olvasnak fel Vecsei
  H. MiklÃ³s Ã©s meghÃ­vott barÃ¡tai. A csalÃ¡dias hangulatÃº esemÃ©nyre szÃ
 ³lÃ³ jegy Ã¡ra egy POKETet is tartalmaz. POKET 1. szÃ¼letÃ©snapHegedÅ±s D. 
 GÃ©za Ifj. VidnyÃ¡nszky Attila HorvÃ¡th Panna (szerkesztÅ‘) SoÃ³s Luca (ill
 usztrÃ¡ciÃ³) Kiss-Benedek KristÃ³f (tÃ¶rdelÃ©s) Vecsei[..]\nhttps://momkult
 .hu/events/poket-versfelolvasas/
URL:https://momkult.hu/events/poket-versfelolvasas/
END:VEVENT
END:VCALENDAR