BEGIN:VCALENDAR
VERSION:2.0
PRODID:-//eventon.com NONSGML v1.0//EN
CALSCALE:GREGORIAN
METHOD:PUBLISH
BEGIN:VEVENT
UID:69ea822a9d663
DTSTAMP:20260423T203346Z
DTSTART:20190501
DTEND:20190502
LOCATION:
SUMMARY:Kiállítás Turóczi Csaba képeiből
DESCRIPTION:A 25 éve festő\,  idén 50. életévét betöltő Turóczi Cs
 aba festményeiből készült kiállítás.\nhttps://momkult.hu/events/kial
 litas-turoczi-csaba-kepeibol/
URL:https://momkult.hu/events/kiallitas-turoczi-csaba-kepeibol/
END:VEVENT
END:VCALENDAR