BEGIN:VCALENDAR
VERSION:2.0
PRODID:-//eventon.com NONSGML v1.0//EN
CALSCALE:GREGORIAN
METHOD:PUBLISH
BEGIN:VEVENT
UID:69e9866bc99a0
DTSTAMP:20260423T023939Z
DTSTART:20191221T180000Z
DTEND:20191221T193000Z
LOCATION:
SUMMARY:Hegyvidéki Karácsonyváró | Szent Efrém Férfikar
DESCRIPTION:&#8222;Jobban\,  mint valaha\,  ragaszkodom a zenei nyelv legt
 kéletesebb szabatosságához\,  tisztaságához\,  alkalmasságához és 
 transzparenciájához.” – Liszt Ferenc 1869-ben papírra vetett gondol
 atai szolgálnak sorvezetőként a Szent Efrém Férfikar mindennapi munk
 jában. Egy cél\,  amit elérni csak ritkán sikerül\,  de törekedni r
  mindennap szükséges. Magyarország legnépszerűbb vokális énekegyüt
 tesét 2002-ben alapította a Liszt- és Érdemes Művész Díjas Bubnó[.
 .]\nhttps://momkult.hu/events/hegyvideki-karacsonyvaro-szent-efrem-ferfikar
 /
URL:https://momkult.hu/events/hegyvideki-karacsonyvaro-szent-efrem-ferfikar/
END:VEVENT
END:VCALENDAR