BEGIN:VCALENDAR
VERSION:2.0
PRODID:-//eventon.com NONSGML v1.0//EN
CALSCALE:GREGORIAN
METHOD:PUBLISH
BEGIN:VEVENT
UID:69ea6c6bf3341
DTSTAMP:20260423T190059Z
DTSTART:20190520T170000Z
DTEND:20190520T180000Z
LOCATION:
SUMMARY:„LYÁNYOM\,  ANYÁM\,  HÚGOM\,  SZERETŐM\,  HITVESEM!” | Petőfi és a „gyengébb nem”
DESCRIPTION:Válogatás Petőfi szerelmes verseiből Kunfi Kuncz László e
 lőadásában.\nhttps://momkult.hu/events/lyanyom-anyam-hugom-szeretom-hitv
 esem-petofi-es-a-gyengebb-nem/
URL:https://momkult.hu/events/lyanyom-anyam-hugom-szeretom-hitvesem-petofi-es-a-gyengebb-nem/
END:VEVENT
END:VCALENDAR