BEGIN:VCALENDAR
VERSION:2.0
PRODID:-//eventon.com NONSGML v1.0//EN
CALSCALE:GREGORIAN
METHOD:PUBLISH
BEGIN:VEVENT
UID:69ea5603f199f
DTSTAMP:20260423T172523Z
DTSTART:20190522T170000Z
DTEND:20190522T183000Z
LOCATION:
SUMMARY:„Az vagy nekem…” | Szavak és képek a szerelemről | Párhuzamos műfajok
DESCRIPTION:Párbeszédes előadásainkon a magyar és egyetemes művészet
  nagy témaköreit tekintjük át a klasszikus irodalmi és képzőművész
 eti műfajokon keresztül. Előadásainkon szó lesz történelemről\,  sz
 erelemről\,  ellentétekről\,  szegényekről és gazdagokról\,  a term
 szet változó jelentéseiről\,  s természetesen a művész önmagáról
  alkotott képéről is. Naplók\,  eposzok\,  önarcképek\,  csendéletek
 \,  himnuszok és még sok minden más. Egy[..]\nhttps://momkult.hu/events/
 az-vagy-nekem-szavak-es-kepek-a-szerelemrol-parhuzamos-mufajok/
URL:https://momkult.hu/events/az-vagy-nekem-szavak-es-kepek-a-szerelemrol-parhuzamos-mufajok/
END:VEVENT
END:VCALENDAR