BEGIN:VCALENDAR
VERSION:2.0
PRODID:-//eventon.com NONSGML v1.0//EN
CALSCALE:GREGORIAN
METHOD:PUBLISH
BEGIN:VEVENT
UID:69ea94ea22aac
DTSTAMP:20260423T215346Z
DTSTART:20190411T170000Z
DTEND:20190411T181000Z
LOCATION:
SUMMARY:Bob Ã©s BobÃ©k Orchestra & Bettika Quintet
DESCRIPTION:A slam nagykÃ¶vete\,  HorvÃ¡th KristÃ³f \,  azaz &#8222;SzÃ­nÃ©
 sz Bob&#8221; Ã©s csapata\,  a Bob Ã©s BobÃ©k Orchestra\,  valamint a kortÃ
 ¡rs verseket megszÃ³laltatÃ³ Bettika Quintet most Ã¶sszefog\,  hogy egy ren
 dhagyÃ³ interaktÃ­v esemÃ©nnyel Ã¼nnepelje a magyar kÃ¶ltÃ©szet napjÃ¡t. Le
 gyen nyelvtÃ¶rÅ‘\,  rap\,  slam poetry vagy kÃ¶ltÃ©szet\,  jazz\,  world\, 
  hip hop\,  drum n bass\,  vagy[..]\nhttps://momkult.hu/events/bob-es-bobek
 -orchestra-bettika-quintet/
URL:https://momkult.hu/events/bob-es-bobek-orchestra-bettika-quintet/
END:VEVENT
END:VCALENDAR