BEGIN:VCALENDAR
VERSION:2.0
PRODID:-//eventon.com NONSGML v1.0//EN
CALSCALE:GREGORIAN
METHOD:PUBLISH
BEGIN:VEVENT
UID:69e8db15230d6
DTSTAMP:20260422T142837Z
DTSTART:20200830T133000Z
DTEND:20200830T153000Z
LOCATION:
SUMMARY:Az illÃºziÃ³ mesterei - 2020
DESCRIPTION:Az elÅ‘adÃ¡s Ãºj idÅ‘pontban\,  2020. 08. 30-Ã¡n (14:30) kerÃ¼l
  megrendezÃ©sre. (eredeti idÅ‘pont: 2020. 03. 29. 14:30\,  pÃ³telÅ‘adÃ¡s: 2
 020. 08.30. 14:30) New York\,  Peking\,  Dubai\,  Las Vegas\,  Monte Carlo 
 Ã©s TokiÃ³ utÃ¡n Ãºjra Budapesten Az illÃºziÃ³ mesterei! VilÃ¡ghÃ­rÅ± bÅ±vÃ
 ©szek Ã©s az orszÃ¡g legjobb illuzionistÃ¡i egyÃ¼tt\,  egy vadonatÃºj mÅ±so
 rban. Az elÅ‘zÅ‘ Ã©vekben[..]\nhttps://momkult.hu/events/az-illuzio-mestere
 i-2020-2/
URL:https://momkult.hu/events/az-illuzio-mesterei-2020-2/
END:VEVENT
END:VCALENDAR