BEGIN:VCALENDAR
VERSION:2.0
PRODID:-//eventon.com NONSGML v1.0//EN
CALSCALE:GREGORIAN
METHOD:PUBLISH
BEGIN:VEVENT
UID:69ea95ac27df1
DTSTAMP:20260423T215700Z
DTSTART:20190411T093000Z
DTEND:20190411T101500Z
LOCATION:
SUMMARY:Babakoncert
DESCRIPTION:A gyermekek zenei fejlesztése nemcsak zenei tehetségük kibon
 takoztatását szolgálja\,  hanem a két agyfélteke harmonikus fejlődés
 ét is\,  ami által érzékennyé\,  kreatívvá\,  kitartóvá\,  fegyelm
 ezetté\,  intelligensebbekké válnak\,  befogadóbbak lesznek az őket é
 rt hatásokkal szemben. Napjainkban egyre több kutatás foglalkozik gyerme
 keink korai zenei fejlesztésének hatásával. A magzat minden pillanatát
  áthatja édesanyja szívverésének lüktetése\,  járásának[..]\nhttp
 s://momkult.hu/events/babakoncert-12/
URL:https://momkult.hu/events/babakoncert-12/
END:VEVENT
END:VCALENDAR