BEGIN:VCALENDAR
VERSION:2.0
PRODID:-//eventon.com NONSGML v1.0//EN
CALSCALE:GREGORIAN
METHOD:PUBLISH
BEGIN:VEVENT
UID:69ea40ba66904
DTSTAMP:20260423T155434Z
DTSTART:20190616T180000Z
DTEND:20190616T193000Z
LOCATION:
SUMMARY:Magyar TáncRAPszódia | VariDance táncelőadás
DESCRIPTION:Rapszódia: laza szerkezetű\,  gyakran nemzeti-népi motívumo
 kra épülő\,  fantáziaszerű kompozíció. Jellemzője az érzelmek\,  g
 ondolatok szenvedélyes hullámzása\,  a kifejezés szabadsága. A Magyar 
 TáncRapszódia című előadás a magyar néptánctradícióból kiindulva
  – azt mai zenei irányzatokkal (InFusion Trio és Jammal) és tánctechn
 ikákkal ötvözve – egy sajátos\,  egyedi táncelőadás. Egymást vál
 tó\,  hol dinamikus\,  hol lírai\, [..]\nhttps://momkult.hu/events/magyar
 -tancrapszodia-varidance-tanceloadas/
URL:https://momkult.hu/events/magyar-tancrapszodia-varidance-tanceloadas/
END:VEVENT
END:VCALENDAR