BEGIN:VCALENDAR
VERSION:2.0
PRODID:-//eventon.com NONSGML v1.0//EN
CALSCALE:GREGORIAN
METHOD:PUBLISH
BEGIN:VEVENT
UID:69ea560eca030
DTSTAMP:20260423T172534Z
DTSTART:20190529T180000Z
DTEND:20190529T193000Z
LOCATION:
SUMMARY:Kármen | VariDance táncelőadás
DESCRIPTION:Georges Bizet halhatatlan operája ihlette a darabot. A VariDan
 ce előadása azonban nem Sevillában játszódik a történelmi múltban\,
   hanem Magyarországon a jelenben. Akár egy vidéki kisközségben. Egy i
 gazán zárt közösség szereplői népesítik be ezt a szenvedélyes\,  m
 agával ragadó históriát\,  élükön Kármennel\,  a szemrevaló cigán
 ylánnyal. Táncfantázia egy részben / 12 éves kortól[..]\nhttps://momk
 ult.hu/events/karmen-varidance-tanceloadas/
URL:https://momkult.hu/events/karmen-varidance-tanceloadas/
END:VEVENT
END:VCALENDAR