BEGIN:VCALENDAR
VERSION:2.0
PRODID:-//eventon.com NONSGML v1.0//EN
CALSCALE:GREGORIAN
METHOD:PUBLISH
BEGIN:VEVENT
UID:69ea7fcad3653
DTSTAMP:20260423T202338Z
DTSTART:20190425T173000Z
DTEND:20190425T190000Z
LOCATION:
SUMMARY:Hello\,  WMN!
DESCRIPTION:Téma: Szabadság és/vagy szerelem &#8211; A nő és a kapcsol
 atok Amikor két felnőtt ember nagy nehezen végre egymásra talál\,  és
  úgy dönt: együtt szeretné leélni az életét\,  a vászonra lassan fe
 lkúszik a vége felirat. Pedig a történet igazán izgalmas része akkor 
 kezdődik\,  miután a főhősök ellovagoltak a naplementébe… De mi[..]
 \nhttps://momkult.hu/events/hello-wmn/
URL:https://momkult.hu/events/hello-wmn/
END:VEVENT
END:VCALENDAR