BEGIN:VCALENDAR
VERSION:2.0
PRODID:-//eventon.com NONSGML v1.0//EN
CALSCALE:GREGORIAN
METHOD:PUBLISH
BEGIN:VEVENT
UID:69ea6df83b5ec
DTSTAMP:20260423T190736Z
DTSTART:20190504T200000Z
DTEND:20190504T210000Z
LOCATION:
SUMMARY:KROSNY - too funny for words!
DESCRIPTION:Ireneusz Krosny 1968-ban született Lengyelországban. 1982 és
  1992 között három amatőr pantomim csapatban vett részt\,  melyek köz
 ül a legfontosabb\,  a Scena Pantomimy KUL alapítója és vezetője is vo
 lt. 1992-ben kezdte el szóló karrierjét\,  melyet „One Mime Theatre”
  címmel mutatott be. Az 1995/96-os színházi évadban Krosny három kül
 nböző humorfesztiválon vett részt[..]\nhttps://momkult.hu/events/krosn
 y-too-funny-for-words/
URL:https://momkult.hu/events/krosny-too-funny-for-words/
END:VEVENT
END:VCALENDAR