BEGIN:VCALENDAR
VERSION:2.0
PRODID:-//eventon.com NONSGML v1.0//EN
CALSCALE:GREGORIAN
METHOD:PUBLISH
BEGIN:VEVENT
UID:69ea6c6c08469
DTSTAMP:20260423T190100Z
DTSTART:20190511T193000Z
DTEND:20190511T210000Z
LOCATION:
SUMMARY:Al di Meola | Get Closer Concerts
DESCRIPTION:A Grammy-díjas\,  világszerte ismert gitárművész ez elmúl
 t évtizedekben megalapozta hírnevét a szóló- és a más zenészekkel k
 özös produkcióival. Karrierje során a jazz és rock legnagyobb előadó
 ival dolgozott együtt\,  csak néhány közülük: Frank Zappa\,  Jimmy Pa
 ge\,  Stevie Wonder\,  Chick Corea\,  Paco De Lucia\,  John McLaughlin\,  S
 tanley Clarke\,  Luciano Pavarotti\,  Paul Simon\, [..]\nhttps://momkult.hu
 /events/al-di-meola-get-closer-concerts-3/
URL:https://momkult.hu/events/al-di-meola-get-closer-concerts-3/
END:VEVENT
END:VCALENDAR