BEGIN:VCALENDAR
VERSION:2.0
PRODID:-//eventon.com NONSGML v1.0//EN
CALSCALE:GREGORIAN
METHOD:PUBLISH
BEGIN:VEVENT
UID:69ea81bdd803f
DTSTAMP:20260423T203157Z
DTSTART:20190427T093000Z
DTEND:20190427T103000Z
LOCATION:
SUMMARY:ANYÁK NAPI AJÁNDÉK BABAKONCERT - BA-DA-BÍ  | GyerekMOM | ANCSURKA MESEMŰHELY
DESCRIPTION:A KÖZELGŐ ANYÁK NAPJA ALKALMÁBÓL SZERETETTEL VÁRJUK A BAB
 ÁS CSALÁDOKAT ÁPRILIS 27-ÉN SZOMBATON 10.30 ÓRÁRA A BA-DA-BÍ BABAKON
 CERTRE. A KONCERTRE A BELÉPÉS DÍJTALAN. A PROGRAMRA ÖSSZESEN 180 FŐT T
 UDUNK BEENGEDNI\,  ÉRKEZÉSI SORRENDBEN. Ba-da-bí -babanyelven a világ m
 inden tájáról . Vajon hogy hívják Csip-csip csókát Afrikában? A lit
 vánok is szoktak piszézni?[..]\nhttps://momkult.hu/events/ba-da-bi-gyerek
 mom-ancsurka-mesemuhely/
URL:https://momkult.hu/events/ba-da-bi-gyerekmom-ancsurka-mesemuhely/
END:VEVENT
END:VCALENDAR