BEGIN:VCALENDAR
VERSION:2.0
PRODID:-//eventon.com NONSGML v1.0//EN
CALSCALE:GREGORIAN
METHOD:PUBLISH
BEGIN:VEVENT
UID:69ea8200f3771
DTSTAMP:20260423T203304Z
DTSTART:20190429T190000Z
DTEND:20190429T203000Z
LOCATION:
SUMMARY:Egy szál gitár | Jamie Winchester
DESCRIPTION:Jamie az az ír srác\,  aki a Budapesten töltött 25 év alat
 t vált kamaszból országszerte elismert zenésszé. Eleinte koncertszerve
 zőként dolgozott\,  majd 1990-ben a KFT zenekar tagjaival és egy orosz n
 épi énekesekből álló csapattal megalapították a Baba Yaga együttest
 \,  melynek köszönhetően a következő években szinte az összes jelent
 ős magyar zenésszel dolgozhatott.[..]\nhttps://momkult.hu/events/egy-szal
 -gitar-jamie-winchester/
URL:https://momkult.hu/events/egy-szal-gitar-jamie-winchester/
END:VEVENT
END:VCALENDAR