BEGIN:VCALENDAR
VERSION:2.0
PRODID:-//eventon.com NONSGML v1.0//EN
CALSCALE:GREGORIAN
METHOD:PUBLISH
BEGIN:VEVENT
UID:69ea816ced224
DTSTAMP:20260423T203036Z
DTSTART:20190418T183000Z
DTEND:20190418T200000Z
LOCATION:
SUMMARY:Azur Blue Band | Hegyvidéki Smooth Jazz Klub
DESCRIPTION:Az instrumentális jazz world zenekar\,  az Azur Blue Band\,  V
 eress Gábor Csaba (gitáros-zeneszerző) és Kertész Ákos (ütőhangszer
 es\,  billentyűs\,  hangszerelő) formációja. A zenekar nevét a „Nagy
  kékség” című Luc Besson-film és az Amerikában világhíressé vál
 t magyar gitáros\,  Szabó Gábor egyik 1971-es felvétele (Azure Blue) ih
 lette. Veress Gábor Csaba játszott a Latin[..]\nhttps://momkult.hu/events
 /azur-blue-band-hegyvideki-smooth-jazz-klub/
URL:https://momkult.hu/events/azur-blue-band-hegyvideki-smooth-jazz-klub/
END:VEVENT
END:VCALENDAR