BEGIN:VCALENDAR
VERSION:2.0
PRODID:-//eventon.com NONSGML v1.0//EN
CALSCALE:GREGORIAN
METHOD:PUBLISH
BEGIN:VEVENT
UID:69ea7fd01c8d4
DTSTAMP:20260423T202344Z
DTSTART:20190423T180000Z
DTEND:20190423T191500Z
LOCATION:
SUMMARY:LyukasÃ³ra klub
DESCRIPTION:A mai alkalom moderÃ¡tora Lackfi JÃ¡nos. Mi az a LyukasÃ³ra? KÃ
 ¶ltÅ‘kbÅ‘l\,  szÃ­nÃ©szekbÅ‘l\,  irodalmÃ¡rokbÃ³l Ã¡llÃ³ Ã¶sszeszokott barÃ
 ¡ti tÃ¡rsasÃ¡g tagjai kalauzoljÃ¡k egymÃ¡st Ã©s a nÃ©zÅ‘ket a kÃ¶ltÃ©szet i
 zgalmas vilÃ¡gÃ¡ba.Â LazÃ­tunk\,  sztorizunk\,  jÃ¡tszunk Ã©s szabadon vÃ¡l
 asztott versekkel prÃ³bÃ¡ljuk meg beugratni egymÃ¡st. VidÃ¡m Ã©s bÃ¡natos a
 nekdotÃ¡k\,  no meg remek versek elevenednek meg a pÃ³diumon. JÃ¡tszÃ³tÃ¡rs
 [..]\nhttps://momkult.hu/events/lyukasora-klub-6/
URL:https://momkult.hu/events/lyukasora-klub-6/
END:VEVENT
END:VCALENDAR