BEGIN:VCALENDAR
VERSION:2.0
PRODID:-//eventon.com NONSGML v1.0//EN
CALSCALE:GREGORIAN
METHOD:PUBLISH
BEGIN:VEVENT
UID:69ea82b6647c9
DTSTAMP:20260423T203606Z
DTSTART:20190424T170000Z
DTEND:20190424T183000Z
LOCATION:
SUMMARY:HullÃ³ faldarab Ã©s dinnyehÃ©j â€“ TÃ¡rgyak\,  avagy a vilÃ¡g kÃ¶zelrÅ‘l | PÃ¡rhuzamos mÅ±fajok
DESCRIPTION:PÃ¡rbeszÃ©des elÅ‘adÃ¡sainkon a magyar Ã©s egyetemes mÅ±vÃ©szet
  nagy tÃ©makÃ¶reit tekintjÃ¼k Ã¡t a klasszikus irodalmi Ã©s kÃ©pzÅ‘mÅ±vÃ©sz
 eti mÅ±fajokon keresztÃ¼l. ElÅ‘adÃ¡sainkon szÃ³ lesz tÃ¶rtÃ©nelemrÅ‘l\,  sz
 erelemrÅ‘l\,  ellentÃ©tekrÅ‘l\,  szegÃ©nyekrÅ‘l Ã©s gazdagokrÃ³l\,  a termÃ
 ©szet vÃ¡ltozÃ³ jelentÃ©seirÅ‘l\,  s termÃ©szetesen a mÅ±vÃ©sz Ã¶nmagÃ¡rÃ³l
  alkotott kÃ©pÃ©rÅ‘l is. NaplÃ³k\,  eposzok\,  Ã¶narckÃ©pek\,  csendÃ©letek
 \,  himnuszok Ã©s mÃ©g sok minden mÃ¡s. Egy[..]\nhttps://momkult.hu/events/
 kontrasztok-egy-igen-es-egy-nem-feny-es-arnyek-ellentetek-parhuzamos-mufajo
 k/
URL:https://momkult.hu/events/kontrasztok-egy-igen-es-egy-nem-feny-es-arnyek-ellentetek-parhuzamos-mufajok/
END:VEVENT
END:VCALENDAR