BEGIN:VCALENDAR
VERSION:2.0
PRODID:-//eventon.com NONSGML v1.0//EN
CALSCALE:GREGORIAN
METHOD:PUBLISH
BEGIN:VEVENT
UID:69ea9568ed0ac
DTSTAMP:20260423T215552Z
DTSTART:20190413T080000Z
DTEND:20190413T180000Z
LOCATION:
SUMMARY:MIÃ‰RT? MIÃ‰RT NE?!  | TEDxYouth@Budapest 2019
DESCRIPTION:A TEDxYouth a TED-del szoros kapcsolatot Ã¡polÃ³\,  mÃ©gis kÃ¼l
 Ã¶nÃ¡llÃ³ Ãºj platform\,  amely a TED szellemisÃ©gÃ©ben gondolkodÃ³ Ã©s cse
 lekvÅ‘ fiatalokat mutat be. A TED mÃ¡ra egyre tÃ¶bb fiatalt ragadott magÃ¡v
 al\,  Ã¡m nem csak Å‘k tanulhatnak a nagy gondolkodÃ³ktÃ³l\,  mi is tanulha
 tunk tÅ‘lÃ¼k! KÃ¼lÃ¶nleges lÃ¡tÃ¡smÃ³djuk\,  Ã©rzÃ©kenysÃ©gÃ¼k\,  nyitottsÃ
 ¡guk segÃ­thet mÃ¡s szemszÃ¶gbÅ‘l lÃ¡tni a[..]\nhttps://momkult.hu/events/m
 iert-miert-ne-tedxyouthbudapest-2019/
URL:https://momkult.hu/events/miert-miert-ne-tedxyouthbudapest-2019/
END:VEVENT
END:VCALENDAR