BEGIN:VCALENDAR
VERSION:2.0
PRODID:-//eventon.com NONSGML v1.0//EN
CALSCALE:GREGORIAN
METHOD:PUBLISH
BEGIN:VEVENT
UID:69eada743f6e4
DTSTAMP:20260424T025028Z
DTSTART:20190321T180000Z
DTEND:20190321T210000Z
LOCATION:
SUMMARY:A dzsungel könyve - cserkészek előadásában | Dés László – Geszti Péter – Békés Pál
DESCRIPTION:A dzsungel könyve olyan minden korosztálynak szóló mese\,  
 ami valós emberi tulajdonságokról szól: szeretetről\,  gőgről\,  tis
 zteletről\,  bosszúról\,  butaságról és humorról. Szereplői főkén
 t állatok\,  akik mégis hús-vér emberi problémákkal küszködnek. A d
 arab a krisztinavárosi 148. Nagyboldogasszony Cserkészcsapat kettős jubi
 leuma kapcsán kerül színpadra: tavaly lett 95 éves\,  2019-ben pedig az
  újraalapítás 30.[..]\nhttps://momkult.hu/events/a-dzsungel-konyve-cserk
 eszek-eloadasaban-des-laszlo-geszti-peter-bekes-pal/
URL:https://momkult.hu/events/a-dzsungel-konyve-cserkeszek-eloadasaban-des-laszlo-geszti-peter-bekes-pal/
END:VEVENT
END:VCALENDAR