BEGIN:VCALENDAR
VERSION:2.0
PRODID:-//eventon.com NONSGML v1.0//EN
CALSCALE:GREGORIAN
METHOD:PUBLISH
BEGIN:VEVENT
UID:69eac31731707
DTSTAMP:20260424T011047Z
DTSTART:20190317T180000Z
DTEND:20190317T200000Z
LOCATION:
SUMMARY:Mindnyájan Egyért
DESCRIPTION:A perbáli Szent Anna katolikus templom csodálatos barokk főo
 ltára\,  január elsején egy tűzesetben gyakorlatilag porig égett. Az e
 szmei és anyagi kár nagyságára való tekintettel az oltár újjáépít
 ése céljából a helyi plébános segítségével és jóvoltából meghi
 rdetésre került az összefogás koncert\,  melynek teljes bevétele az ol
 tár újjáépítésére lesz fordítva. Az oltár újjáépítéséhez[..]
 \nhttps://momkult.hu/events/mindnyajan-egyert/
URL:https://momkult.hu/events/mindnyajan-egyert/
END:VEVENT
END:VCALENDAR