BEGIN:VCALENDAR
VERSION:2.0
PRODID:-//eventon.com NONSGML v1.0//EN
CALSCALE:GREGORIAN
METHOD:PUBLISH
BEGIN:VEVENT
UID:69eadc6543f47
DTSTAMP:20260424T025845Z
DTSTART:20190302
DTEND:20190303
LOCATION:
SUMMARY:Varga Edina kiÃ¡llÃ­tÃ¡sa
DESCRIPTION:Varga Edina A KiskÃ©pzÅ‘t szobrÃ¡sz szakon\,  az IparmÅ±vÃ©szet
 i Egyetemet textiltervezÅ‘ szakon vÃ©gezte. Itt szerzett tanÃ¡ri Ã©s mÃºzeu
 mpedagÃ³giai diplomÃ¡t is. Tagja a Magyar AlkotÃ³mÅ±vÃ©szek Ã©s a Magyar Ra
 jztanÃ¡rok OrszÃ¡gos EgyesÃ¼letÃ©nek. A Semmelweis Szalon vezetÅ‘je\,  a KÃ
 ºria mÅ±vÃ©szeti tanÃ¡csadÃ³ja. Ã–nÃ¡llÃ³ Ã©s csoportos kiÃ¡llÃ­tÃ¡sokon re
 ndszeresen szerepel. FestmÃ©nyeiben megjelenik egyfajta lÃ©lekbÅ‘l felszaka
 dÃ³ Ã©rzÃ©s/gondolat\,  amely[..]\nhttps://momkult.hu/events/varga-edina-ki
 allitasa/
URL:https://momkult.hu/events/varga-edina-kiallitasa/
END:VEVENT
END:VCALENDAR