BEGIN:VCALENDAR
VERSION:2.0
PRODID:-//eventon.com NONSGML v1.0//EN
CALSCALE:GREGORIAN
METHOD:PUBLISH
BEGIN:VEVENT
UID:69eac305a4b6c
DTSTAMP:20260424T011029Z
DTSTART:20190315T100000Z
DTEND:20190315T120000Z
LOCATION:
SUMMARY:MÃ¡rcius 15-i Ã¼nnepi megemlÃ©kezÃ©s
DESCRIPTION:A HegyvidÃ©ki Ã–nkormÃ¡nyzat tisztelettel meghÃ­vja Ã–nt Ã©s cs
 alÃ¡djÃ¡t az 1848/49-es forradalom Ã©s szabadsÃ¡gharc Ã©vfordulÃ³jÃ¡nak tis
 zteletÃ©re 2019. mÃ¡rcius 15-Ã©n (pÃ©ntek) 10 Ã³rakor a MOM KulturÃ¡lis KÃ¶
 zpont SzÃ­nhÃ¡ztermÃ©ben (XII. kerÃ¼let\,  CsÃ¶rsz u. 18.) megrendezendÅ‘ Ã
 ¼nnepi megemlÃ©kezÃ©sre. Ãœnnepi program: &#8211; KÃ¶szÃ¶ntÅ‘t mond GulyÃ¡s
  Gergely\,  a MiniszterelnÃ¶ksÃ©get vezetÅ‘ miniszter &#8211; OrbÃ¡nhegyi Ã
 “vodÃ¡k Ã©s a[..]\nhttps://momkult.hu/events/marcius-15-i-unnepi-megemlekez
 es/
URL:https://momkult.hu/events/marcius-15-i-unnepi-megemlekezes/
END:VEVENT
END:VCALENDAR