BEGIN:VCALENDAR
VERSION:2.0
PRODID:-//eventon.com NONSGML v1.0//EN
CALSCALE:GREGORIAN
METHOD:PUBLISH
BEGIN:VEVENT
UID:69eac337c454a
DTSTAMP:20260424T011119Z
DTSTART:20190313T180000Z
DTEND:20190313T193000Z
LOCATION:
SUMMARY:Hitel-est
DESCRIPTION:\nhttps://momkult.hu/events/hitel-est-4/
URL:https://momkult.hu/events/hitel-est-4/
END:VEVENT
END:VCALENDAR