BEGIN:VCALENDAR
VERSION:2.0
PRODID:-//eventon.com NONSGML v1.0//EN
CALSCALE:GREGORIAN
METHOD:PUBLISH
BEGIN:VEVENT
UID:69ea92c975679
DTSTAMP:20260423T214441Z
DTSTART:20190407T180000Z
DTEND:20190407T220000Z
LOCATION:
SUMMARY:POKET - 1. születésnap - Háy Come Beck
DESCRIPTION:A MOMkult és a Budapesti Tavaszi Fesztivál bemutatja: POKET 
  1. születésnap Áprilisban lesz a Vecsei H. Miklós által megálmodot
 t POKET ZSEBKÖNYVEK projekt egy éves. Az évfordulót a MOMkult és a Bud
 apesti Tavaszi Fesztivál együttműködésében ünnepli a POKET. A rendha
 gyó eseményen először a POKET sorozat 15. részeként Háy János\,  az
 [..]\nhttps://momkult.hu/events/poket1/
URL:https://momkult.hu/events/poket1/
END:VEVENT
END:VCALENDAR