BEGIN:VCALENDAR
VERSION:2.0
PRODID:-//eventon.com NONSGML v1.0//EN
CALSCALE:GREGORIAN
METHOD:PUBLISH
BEGIN:VEVENT
UID:69eaaae1cf066
DTSTAMP:20260423T232729Z
DTSTART:20190322T140000Z
DTEND:20190322T160000Z
LOCATION:
SUMMARY:NyugdÃ­jas Klub
DESCRIPTION:A kÃ©thetente jelentkezÅ‘ program tartalmas kikapcsolÃ³dÃ¡st kÃ
 ­nÃ¡l a HegyvidÃ©ken Ã©lÅ‘ nyugdÃ­jasok szÃ¡mÃ¡ra.\nhttps://momkult.hu/even
 ts/nyugdijas-klub-11/
URL:https://momkult.hu/events/nyugdijas-klub-11/
END:VEVENT
END:VCALENDAR