BEGIN:VCALENDAR
VERSION:2.0
PRODID:-//eventon.com NONSGML v1.0//EN
CALSCALE:GREGORIAN
METHOD:PUBLISH
BEGIN:VEVENT
UID:69eaaae992ae4
DTSTAMP:20260423T232737Z
DTSTART:20190326T103000Z
DTEND:20190326T111500Z
LOCATION:
SUMMARY:Babakoncert
DESCRIPTION:A gyermekek zenei fejlesztése nemcsak zenei tehetségük kibon
 takoztatását szolgálja\,  hanem a két agyfélteke harmonikus fejlődés
 ét is\,  ami által érzékennyé\,  kreatívvá\,  kitartóvá\,  fegyelm
 ezetté\,  intelligensebbekké válnak\,  befogadóbbak lesznek az őket é
 rt hatásokkal szemben. Napjainkban egyre több kutatás foglalkozik gyerme
 keink korai zenei fejlesztésének hatásával. A magzat minden pillanatát
  áthatja édesanyja szívverésének lüktetése\,  járásának[..]\nhttp
 s://momkult.hu/events/babakoncert-10/
URL:https://momkult.hu/events/babakoncert-10/
END:VEVENT
END:VCALENDAR