BEGIN:VCALENDAR
VERSION:2.0
PRODID:-//eventon.com NONSGML v1.0//EN
CALSCALE:GREGORIAN
METHOD:PUBLISH
BEGIN:VEVENT
UID:69eaad9387365
DTSTAMP:20260423T233859Z
DTSTART:20190323T110000Z
DTEND:20190323T120000Z
LOCATION:
SUMMARY:Minikoncert a BioPiacon | Bach Mindenkinek Fesztivál
DESCRIPTION:\nhttps://momkult.hu/events/minikoncert-a-biopiacon-bach-minden
 kinek-fesztival/
URL:https://momkult.hu/events/minikoncert-a-biopiacon-bach-mindenkinek-fesztival/
END:VEVENT
END:VCALENDAR