BEGIN:VCALENDAR
VERSION:2.0
PRODID:-//eventon.com NONSGML v1.0//EN
CALSCALE:GREGORIAN
METHOD:PUBLISH
BEGIN:VEVENT
UID:69ea96280ac1f
DTSTAMP:20260423T215904Z
DTSTART:20190408T180000Z
DTEND:20190408T193000Z
LOCATION:
SUMMARY:Az orosz kozákok | Állami Tánc- és Énekegyüttes
DESCRIPTION:Az orosz kozákok – Állami Tánc- és Énekegyüttes közel 
 három évtizede varázsolja el a nézőket világszerte. Műsorukban a tra
 dicionális kozák táncokat ötvözik nemzeti dalokkal\,  élő zenekari k
 ísérettel. 2019-es tavaszi turnéjuk keretében először lépnek fel Mag
 yarországon. A társulatot az orosz Leonid Milovanov koreográfus alapíto
 tta 1990-ben Lipetskben. Az összesen 60 főt számláló[..]\nhttps://momk
 ult.hu/events/az-orosz-kozakok-allami-tanc-es-enekegyuttes/
URL:https://momkult.hu/events/az-orosz-kozakok-allami-tanc-es-enekegyuttes/
END:VEVENT
END:VCALENDAR