BEGIN:VCALENDAR
VERSION:2.0
PRODID:-//eventon.com NONSGML v1.0//EN
CALSCALE:GREGORIAN
METHOD:PUBLISH
BEGIN:VEVENT
UID:69eaaae8e9814
DTSTAMP:20260423T232736Z
DTSTART:20190322T193000Z
DTEND:20190322T213000Z
LOCATION:
SUMMARY:László Attila Quartet | Hegyvidéki Smooth Jazz Klub
DESCRIPTION:A László Attila Quartet programjában a Liszt díjas jazz git
 áros eredeti hangzású\,  ritmikus szerzeményei hallhatóak. Az együtt
 es frontemberei a hazai jazzművészet kiemelkedő\,  elismert muzsikusai.
  Játékukat az egymásra figyelés és kölcsönös inspiráció teszi iz
 galmassá. László Attila – gitár Tzumo &#8211; elektromos zongora Latt
 mann Béla – bass Zombori Attila &#8211; dob\nhttps://momkult.hu/events/l
 aszlo-attila-quartet-hegyvideki-smooth-jazz-klub/
URL:https://momkult.hu/events/laszlo-attila-quartet-hegyvideki-smooth-jazz-klub/
END:VEVENT
END:VCALENDAR