BEGIN:VCALENDAR
VERSION:2.0
PRODID:-//eventon.com NONSGML v1.0//EN
CALSCALE:GREGORIAN
METHOD:PUBLISH
BEGIN:VEVENT
UID:69eaacafb139a
DTSTAMP:20260423T233511Z
DTSTART:20190330T103000Z
DTEND:20190330T111500Z
LOCATION:
SUMMARY:Gyurka\,  Zsuzska és a Zsugori gazda | Domi bábszínháza
DESCRIPTION:Klasszikus bábok\,  klasszikus mesék.\nhttps://momkult.hu/eve
 nts/gyurka-zsuzska-domi-babszinhaza/
URL:https://momkult.hu/events/gyurka-zsuzska-domi-babszinhaza/
END:VEVENT
END:VCALENDAR