BEGIN:VCALENDAR
VERSION:2.0
PRODID:-//eventon.com NONSGML v1.0//EN
CALSCALE:GREGORIAN
METHOD:PUBLISH
BEGIN:VEVENT
UID:69eadb144350f
DTSTAMP:20260424T025308Z
DTSTART:20190310T103000Z
DTEND:20190310T111500Z
LOCATION:
SUMMARY:Piroska és a farkas | Domi bábszínháza
DESCRIPTION:Klasszikus bábok\,  klasszikus mesék.\nhttps://momkult.hu/eve
 nts/piroska-domi-babszinhaza-copy/
URL:https://momkult.hu/events/piroska-domi-babszinhaza-copy/
END:VEVENT
END:VCALENDAR