BEGIN:VCALENDAR
VERSION:2.0
PRODID:-//eventon.com NONSGML v1.0//EN
CALSCALE:GREGORIAN
METHOD:PUBLISH
BEGIN:VEVENT
UID:69ea9587683b5
DTSTAMP:20260423T215623Z
DTSTART:20190410T170000Z
DTEND:20190410T183000Z
LOCATION:
SUMMARY:Leonardo da Vinci művészete | Gimesy Péter művészettörténész\,  filozófus előadása
DESCRIPTION:Leonardo da Vinci (1452 &#8211; 1519) halálának 500. évfo
 rdulójára rendezett művészettörténeti előadás. Mai napig da Vinci a
 z a festő\,  akinek a nevét a legtöbben ismerik a világon. De ki is vol
 t Leonardo? Tudós\,  feltaláló\,  mérnök\,  művész? Mindez elmondha
 tó róla és még ennél sokkal több is. Leonardónak alig húsz festmén
 yéről tudunk; Gimesy Péter művészettörténész ezek[..]\nhttps://momk
 ult.hu/events/leonardo-da-vinci-muveszete-gimesy-peter-muveszettortenesz-fi
 lozofus-eloadasa/
URL:https://momkult.hu/events/leonardo-da-vinci-muveszete-gimesy-peter-muveszettortenesz-filozofus-eloadasa/
END:VEVENT
END:VCALENDAR