BEGIN:VCALENDAR
VERSION:2.0
PRODID:-//eventon.com NONSGML v1.0//EN
CALSCALE:GREGORIAN
METHOD:PUBLISH
BEGIN:VEVENT
UID:69eac36f98d98
DTSTAMP:20260424T011215Z
DTSTART:20190320T180000Z
DTEND:20190320T193000Z
LOCATION:
SUMMARY:HÃ¡borÃºban hallgatnak a mÃºzsÃ¡k? â€“ Versek\,  szavak\,  kÃ©pek a hÃ¡borÃºrÃ³l | PÃ¡rhuzamos mÅ±fajok
DESCRIPTION:PÃ¡rbeszÃ©des elÅ‘adÃ¡sainkon a magyar Ã©s egyetemes mÅ±vÃ©szet
  nagy tÃ©makÃ¶reit tekintjÃ¼k Ã¡t a klasszikus irodalmi Ã©s kÃ©pzÅ‘mÅ±vÃ©sz
 eti mÅ±fajokon keresztÃ¼l. ElÅ‘adÃ¡sainkon szÃ³ lesz tÃ¶rtÃ©nelemrÅ‘l\,  sz
 erelemrÅ‘l\,  ellentÃ©tekrÅ‘l\,  szegÃ©nyekrÅ‘l Ã©s gazdagokrÃ³l\,  a termÃ
 ©szet vÃ¡ltozÃ³ jelentÃ©seirÅ‘l\,  s termÃ©szetesen a mÅ±vÃ©sz Ã¶nmagÃ¡rÃ³l
  alkotott kÃ©pÃ©rÅ‘l is. NaplÃ³k\,  eposzok\,  Ã¶narckÃ©pek\,  csendÃ©letek
 \,  himnuszok Ã©s mÃ©g sok minden mÃ¡s. Egy[..]\nhttps://momkult.hu/events/
 haboruban-hallgatnak-a-muzsak-versek-szavak-kepek-a-haborurol-parhuzamos-mu
 fajok/
URL:https://momkult.hu/events/haboruban-hallgatnak-a-muzsak-versek-szavak-kepek-a-haborurol-parhuzamos-mufajok/
END:VEVENT
END:VCALENDAR