BEGIN:VCALENDAR
VERSION:2.0
PRODID:-//eventon.com NONSGML v1.0//EN
CALSCALE:GREGORIAN
METHOD:PUBLISH
BEGIN:VEVENT
UID:69ea815763916
DTSTAMP:20260423T203015Z
DTSTART:20190502T180000Z
DTEND:20190502T193000Z
LOCATION:
SUMMARY:A vÃ¡ltozÃ¡s varÃ¡zsigÃ©i | Dr. MÃ©rÅ‘ LÃ¡szlÃ³
DESCRIPTION:&#8222;Egy edzÅ‘ Ã¡ltal a verseny kÃ¶zben bekiabÃ¡lt szavak gyÅ
 ‘zelemhez segÃ­thetik a versenyzÅ‘t\,  aki pedig mÃ¡r Ã©pp meghalni kÃ©szÃ¼
 lt a fÃ¡radtsÃ¡gtÃ³l. Egy hipnotizÅ‘r nÃ©hÃ¡ny szÃ³val transzÃ¡llapotba tud
 ja juttatni az alanyÃ¡t. Egy Ã¼zleti tanÃ¡csadÃ³ sokszor maga sem tudja\,  
 mely szavai vannak az Ã¼gyfelÃ©re\,  mondjuk egy cÃ©g vezÃ©rigazgatÃ³jÃ¡ra 
 olyan hatÃ¡ssal\,  hogy az hosszÃº[..]\nhttps://momkult.hu/events/a-valtoza
 s-varazsigei-dr-mero-laszlo/
URL:https://momkult.hu/events/a-valtozas-varazsigei-dr-mero-laszlo/
END:VEVENT
END:VCALENDAR