BEGIN:VCALENDAR
VERSION:2.0
PRODID:-//eventon.com NONSGML v1.0//EN
CALSCALE:GREGORIAN
METHOD:PUBLISH
BEGIN:VEVENT
UID:69ea94e9d3653
DTSTAMP:20260423T215345Z
DTSTART:20190405T180000Z
DTEND:20190405T193000Z
LOCATION:
SUMMARY:Vállalkozónak születtem? | Dr. Mérő László - Lang András
DESCRIPTION:&#8222;Ez az egyik kedvenc előadásom &#8211; az ELTE Gazdasá
 gpszichológiai tanszékén szoktam tanítani. Most felfrissítettem\,  akt
 ualizáltam az anyagot a mai kornak megfelelően. Ajánlom mindenkinek\,  a
 ki valaha is eljátszott a gondolattal\,  hogy vállalkozásba fogjon &#821
 1; csak az igazán nagy ötlet hiányzott. Az igazi különlegesség benne\
 ,  hogy most Lang András &#8211; a PEST[..]\nhttps://momkult.hu/events/val
 lalkozonak-szulettem-dr-mero-laszlo-lang-andras/
URL:https://momkult.hu/events/vallalkozonak-szulettem-dr-mero-laszlo-lang-andras/
END:VEVENT
END:VCALENDAR