BEGIN:VCALENDAR
VERSION:2.0
PRODID:-//eventon.com NONSGML v1.0//EN
CALSCALE:GREGORIAN
METHOD:PUBLISH
BEGIN:VEVENT
UID:69eb0fd7da01f
DTSTAMP:20260424T063815Z
DTSTART:20190206T180000Z
DTEND:20190206T193000Z
LOCATION:
SUMMARY:Hitel-est
DESCRIPTION:\nhttps://momkult.hu/events/hitel-est-3/
URL:https://momkult.hu/events/hitel-est-3/
END:VEVENT
END:VCALENDAR