BEGIN:VCALENDAR
VERSION:2.0
PRODID:-//eventon.com NONSGML v1.0//EN
CALSCALE:GREGORIAN
METHOD:PUBLISH
BEGIN:VEVENT
UID:69ea7ffeaed8e
DTSTAMP:20260423T202430Z
DTSTART:20190430T180000Z
DTEND:20190430T200000Z
LOCATION:
SUMMARY:Édeskettes
DESCRIPTION:Rendhagyó szórakoztató színpadi sütő-show\,  Liptai Claud
 ia és Pataki Ádám közös könyve alapján\,  sajátos humorral fűszere
 zve. humoros színpadi sütő-show Liptai Claudia és Pataki Ádám könyve
  alapjánJátékmesterek Liptai Claudia\,  Pataki Ádám Szereplők Hajós 
 András\,  Rudolf Péter\nhttps://momkult.hu/events/edeskettes-2/
URL:https://momkult.hu/events/edeskettes-2/
END:VEVENT
END:VCALENDAR