BEGIN:VCALENDAR
VERSION:2.0
PRODID:-//eventon.com NONSGML v1.0//EN
CALSCALE:GREGORIAN
METHOD:PUBLISH
BEGIN:VEVENT
UID:69eaaddea4a48
DTSTAMP:20260423T234014Z
DTSTART:20190324T103000Z
DTEND:20190324T113000Z
LOCATION:
SUMMARY:Cifra Palinta | Veronaki | GyerekMOM
DESCRIPTION:A Veronaki Cifra Palinta műsorában ismert mondókák és gyer
 mekdalok szerepelnek\,  igazi Veronaki stílusban\,  tele mesével és humo
 rral. A Cifra Palinta koncepciója egy egész évet felölelő műsor\,  a 
 napok\,  hónapok\,  évszakok változása\,  az állandóság és a válto
 zás egyensúlya a minden napokban – olyan dalfeldolgozásokkal\,  amelye
 ket mindenki ismer (pl. Bújj – bújj[..]\nhttps://momkult.hu/events/cifr
 a-palinta-veronaki-gyerekmom/
URL:https://momkult.hu/events/cifra-palinta-veronaki-gyerekmom/
END:VEVENT
END:VCALENDAR