BEGIN:VCALENDAR
VERSION:2.0
PRODID:-//eventon.com NONSGML v1.0//EN
CALSCALE:GREGORIAN
METHOD:PUBLISH
BEGIN:VEVENT
UID:69ea58ccbdc66
DTSTAMP:20260423T173716Z
DTSTART:20190527T180000Z
DTEND:20190527T193000Z
LOCATION:
SUMMARY:Szeretsz engem...? | Budapest Klezmer Band | vendÃ©g: SzulÃ¡k Andrea Ã©s Dunai TamÃ¡s | ZsidÃ³ MÅ±vÃ©szeti Napok
DESCRIPTION:A Budapest Klezmer Band 1990 Ã³ta szÃ³rakoztatja kÃ¶zÃ¶nsÃ©gÃ©t
  lendÃ¼letes Ã©s humorral Ã¡tszÅ‘tt szÃ­npadi fellÃ©pÃ©seivel. VirtuÃ³z mÃ³
 don Ã¶tvÃ¶zi a KÃ¡rpÃ¡t-medence kÃ¼lÃ¶nfÃ©le zenei irÃ¡nyzatait. A zenekar 
 tagjai hangszereik igazi mesterei\,  akik a mÅ±faji hatÃ¡rokon Ã¡tÃ­velÅ‘en
  ÃºjrafogalmazzÃ¡k a klezmer zenÃ©t. A sajÃ¡tos zenei kompozÃ­ciÃ³kban a ha
 gyomÃ¡nyos jiddis motÃ­vumok kiegÃ©szÃ¼lnek cigÃ¡nyzenÃ©bÅ‘l Ã¡tvett Ã©s nÃ
 ©pzenei[..]\nhttps://momkult.hu/events/szeretsz-engem-budapest-klezmer-band
 -vendeg-hernadi-judit-es-dunai-tamas-zsido-muveszeti-napok/
URL:https://momkult.hu/events/szeretsz-engem-budapest-klezmer-band-vendeg-hernadi-judit-es-dunai-tamas-zsido-muveszeti-napok/
END:VEVENT
END:VCALENDAR