BEGIN:VCALENDAR
VERSION:2.0
PRODID:-//eventon.com NONSGML v1.0//EN
CALSCALE:GREGORIAN
METHOD:PUBLISH
BEGIN:VEVENT
UID:69eadcd05dc5f
DTSTAMP:20260424T030032Z
DTSTART:20190224T180000Z
DTEND:20190224T191500Z
LOCATION:
SUMMARY:Hangutazás és hangfürdő
DESCRIPTION:„A látható világ káprázat és illúzió. Az egyetlen val
 óság a láthatatlan lélek. A világ a lélek álma.” A hangutazás és
  hangfürdő során nepáli hangtálakkal és egzotikus keleti hangszerekke
 l zenél Bársony Bálint és Jäger Dávid. Az általuk létrehozott rezg
 sben\,  energiatérben beindulnak a test és lélek természetes\,  öngy
 gyító mechanizmusai. Ezek segítenek harmonizálni[..]\nhttps://momkult.
 hu/events/hangutazas-es-hangfurdo-4/
URL:https://momkult.hu/events/hangutazas-es-hangfurdo-4/
END:VEVENT
END:VCALENDAR