BEGIN:VCALENDAR
VERSION:2.0
PRODID:-//eventon.com NONSGML v1.0//EN
CALSCALE:GREGORIAN
METHOD:PUBLISH
BEGIN:VEVENT
UID:69eadcc0c6a46
DTSTAMP:20260424T030016Z
DTSTART:20190224T160000Z
DTEND:20190224T171500Z
LOCATION:
SUMMARY:Hangutazás és hangfürdő
DESCRIPTION:„A látható világ káprázat és illúzió. Az egyetlen val
 óság a láthatatlan lélek. A világ a lélek álma.” A hangutazás és
  hangfürdő során nepáli hangtálakkal és egzotikus keleti hangszerekke
 l zenél Bársony Bálint és Jäger Dávid. Az általuk létrehozott rezg
 sben\,  energiatérben beindulnak a test és lélek természetes\,  öngy
 gyító mechanizmusai. Ezek segítenek harmonizálni[..]\nhttps://momkult.
 hu/events/hangutazas-es-hangfurdo-3/
URL:https://momkult.hu/events/hangutazas-es-hangfurdo-3/
END:VEVENT
END:VCALENDAR