BEGIN:VCALENDAR
VERSION:2.0
PRODID:-//eventon.com NONSGML v1.0//EN
CALSCALE:GREGORIAN
METHOD:PUBLISH
BEGIN:VEVENT
UID:69eb0f8eaa99f
DTSTAMP:20260424T063702Z
DTSTART:20190208T200000Z
DTEND:20190208T010000Z
LOCATION:
SUMMARY:Zurgó
DESCRIPTION:Moldvai csángó népzene\,  tánctanítás\,  daltanítás. Sz
 eretettel várjuk régi és új ismerőseinket\,  barátainkat az idén 22 
 éves Zurgó Együttes moldvai csángó magyar táncházába. Felnőtt tán
 cház20:00-21:00 | tánctanítás Gyurka Fábiánnal 21:00-22:00 | tánchá
 z 22:00-22:20 | énektanulás\,  közös éneklés Soós Réka vezetéséve
 l 22:20-22:30 | Nagy Bercel mesél 22:30-00:30\nhttps://momkult.hu/events/z
 urgo-4/
URL:https://momkult.hu/events/zurgo-4/
END:VEVENT
END:VCALENDAR