BEGIN:VCALENDAR
VERSION:2.0
PRODID:-//eventon.com NONSGML v1.0//EN
CALSCALE:GREGORIAN
METHOD:PUBLISH
BEGIN:VEVENT
UID:69eac36f98d98
DTSTAMP:20260424T011215Z
DTSTART:20190313T190000Z
DTEND:20190313T203000Z
LOCATION:
SUMMARY:Ars poetica | Dr. Kemény Dénes
DESCRIPTION:Dr. Kemény Dénes vízilabda mesteredzőt talán a sportot kev
 ésbé követő érdeklődőknek sem kell bemutatni. Korszakos teljesítmé
 nyt ért el csapatával: 2000 és 2008 között három olimpiai bajnoki cí
 met nyertek. Kemény Dénest világszerte hívják vállalatok\,  bankok\, 
  biztosítótársaságok\,  hogy avassa be a jelenlévőket a sikeres csapa
 tépítés titkaiba. Az előadáson bepillanthatunk az életébe\,  a[..]\n
 https://momkult.hu/events/ars-poetica-dr-kemeny-denes/
URL:https://momkult.hu/events/ars-poetica-dr-kemeny-denes/
END:VEVENT
END:VCALENDAR